BEGIN:VCALENDAR
VERSION:2.0
PRODID:-//Intand Corporation//Tandem//EN
METHOD:PUBLISH
BEGIN:VEVENT
DTSTAMP:20260425T221235Z
DTSTART:20260419T120000Z
DTEND:20260419T180000Z
TRANSP:TRANSPARENT
PRIORITY:0
SUMMARY:KofC Pankcake Breakfast
LOCATION:St Anne's Detroit > Meeting Hall > Upper Hall
DESCRIPTION:Location:\nSt Anne's Detroit > Meeting Hall > Upper Hall\n\n
URL;VALUE=URI:https://steannededetroit.tandem.co/index.php?type=view&actio
 n=event&id=36229
CREATED:20260106T195731Z
LAST-MODIFIED:20260106T195731Z
UID:event-36229-steannededetroit@intand.com
END:VEVENT
END:VCALENDAR
