BEGIN:VCALENDAR
VERSION:2.0
PRODID:-//Intand Corporation//Tandem//EN
METHOD:PUBLISH
BEGIN:VEVENT
DTSTAMP:20260425T221307Z
DTSTART:20260409T220000Z
DTEND:20260409T230000Z
TRANSP:TRANSPARENT
PRIORITY:0
SUMMARY:Confessions - MCK
LOCATION:Convent > Conference room (1st floor)
DESCRIPTION:Fr. Zaid out on retreat \n\n\nLocation:\nConvent > Conference 
 room (1st floor)\n\n
URL;VALUE=URI:https://steannededetroit.tandem.co/index.php?type=view&actio
 n=event&id=35460
CREATED:20251204T184150Z
LAST-MODIFIED:20260402T221543Z
UID:event-35460-steannededetroit@intand.com
END:VEVENT
END:VCALENDAR
