BEGIN:VCALENDAR
VERSION:2.0
PRODID:-//Intand Corporation//Tandem//EN
METHOD:PUBLISH
BEGIN:VEVENT
DTSTAMP:20260425T220904Z
DTSTART:20260408T230000Z
DTEND:20260408T233000Z
TRANSP:TRANSPARENT
PRIORITY:0
SUMMARY:Spanish Mass - MCK 
LOCATION:Convent > Chapel
DESCRIPTION:Fr. Zaid out on retreat\n\n\nLocation:\nConvent > Chapel\n\n
URL;VALUE=URI:https://steannededetroit.tandem.co/index.php?type=view&actio
 n=event&id=35408
CREATED:20251204T183754Z
LAST-MODIFIED:20260316T153526Z
UID:event-35408-steannededetroit@intand.com
END:VEVENT
END:VCALENDAR
