BEGIN:VCALENDAR
VERSION:2.0
PRODID:-//Intand Corporation//Tandem//EN
METHOD:PUBLISH
BEGIN:VEVENT
DTSTAMP:20260425T221119Z
DTSTART:20260406T220000Z
DTEND:20260407T003000Z
TRANSP:TRANSPARENT
PRIORITY:0
SUMMARY:Choir/Marimba practice
LOCATION:St Anne's Detroit > Church\, St Anne's Detroit > Chapel
DESCRIPTION:Mondays: 6-7pm Children\n\nMondays: 7-8:30pm Marimba\n\n\nLoca
 tions:\nSt Anne's Detroit > Church\nSt Anne's Detroit > Chapel\n\n
X-ALT-DESC;FMTTYPE=text/html:<!doctype html><html><body>Mondays: 6-7pm Chi
 ldren</p><p>Mondays: 7-8:30pm Marimba<br /><br />Locations:<br />St Anne's
  Detroit > Church<br />St Anne's Detroit > Chapel<br /></body></html>
URL;VALUE=URI:https://steannededetroit.tandem.co/index.php?type=view&actio
 n=event&id=33831
CREATED:20250908T175206Z
LAST-MODIFIED:20250908T175206Z
UID:event-33831-steannededetroit@intand.com
END:VEVENT
END:VCALENDAR
