BEGIN:VCALENDAR
VERSION:2.0
PRODID:-//Intand Corporation//Tandem//EN
METHOD:PUBLISH
BEGIN:VEVENT
DTSTAMP:20260422T220709Z
DTSTART:20261213T130000Z
DTEND:20261213T220000Z
TRANSP:TRANSPARENT
PRIORITY:0
SUMMARY:French Noel - Upper
LOCATION:St Anne's Detroit > Meeting Hall > Upper Hall
DESCRIPTION:Location:\nSt Anne's Detroit > Meeting Hall > Upper Hall\n\n
URL;VALUE=URI:http://steannededetroit.tandem.co/index.php?type=view&action
 =event&id=35974
CREATED:20251222T142742Z
LAST-MODIFIED:20251222T142825Z
UID:event-35974-steannededetroit@intand.com
END:VEVENT
END:VCALENDAR
