BEGIN:VCALENDAR
VERSION:2.0
PRODID:-//Intand Corporation//Tandem//EN
METHOD:PUBLISH
BEGIN:VEVENT
DTSTAMP:20260423T031322Z
DTSTART:20261109T150000Z
DTEND:20261109T190000Z
TRANSP:TRANSPARENT
PRIORITY:0
SUMMARY:STA Counters - Conference room
LOCATION:Convent > Conference room (1st floor)
DESCRIPTION:Location:\nConvent > Conference room (1st floor)\n\n
URL;VALUE=URI:http://steannededetroit.tandem.co/index.php?type=view&action
 =event&id=35693
CREATED:20251209T162904Z
LAST-MODIFIED:20260219T225150Z
UID:event-35693-steannededetroit@intand.com
END:VEVENT
END:VCALENDAR
