BEGIN:VCALENDAR
VERSION:2.0
PRODID:-//Intand Corporation//Tandem//EN
METHOD:PUBLISH
BEGIN:VEVENT
DTSTAMP:20260423T005146Z
DTSTART:20260720T140000Z
DTEND:20260720T180000Z
TRANSP:TRANSPARENT
PRIORITY:0
SUMMARY:STA Counters - Conference room
LOCATION:Convent > Conference room (1st floor)
DESCRIPTION:Location:\nConvent > Conference room (1st floor)\n\n
URL;VALUE=URI:http://steannededetroit.tandem.co/index.php?type=view&action
 =event&id=35677
CREATED:20251209T162904Z
LAST-MODIFIED:20260219T225150Z
UID:event-35677-steannededetroit@intand.com
END:VEVENT
END:VCALENDAR
